Package: flowCore Version: 2.23.0 Command: /home/biocbuild/bbs-3.23-bioc/R/bin/R CMD INSTALL flowCore StartedAt: 2025-11-13 15:12:54 -0500 (Thu, 13 Nov 2025) EndedAt: 2025-11-13 15:13:35 -0500 (Thu, 13 Nov 2025) EllapsedTime: 41.9 seconds RetCode: 0 Status: OK