Package: flowCore Version: 2.23.0 Command: /Library/Frameworks/R.framework/Resources/bin/R CMD INSTALL flowCore StartedAt: 2025-11-12 15:22:17 -0500 (Wed, 12 Nov 2025) EndedAt: 2025-11-12 15:22:18 -0500 (Wed, 12 Nov 2025) EllapsedTime: 1.5 seconds RetCode: 1 Status: ERROR