############################################################################## ############################################################################## ### ### Running command: ### ### /Library/Frameworks/R.framework/Resources/bin/R CMD INSTALL flowCore ### ############################################################################## ############################################################################## * installing to library ‘/Library/Frameworks/R.framework/Versions/4.6-arm64/Resources/library’ ERROR: dependencies ‘cytolib’, ‘RProtoBufLib’ are not available for package ‘flowCore’ Perhaps try a variation of: install.packages(c('cytolib', 'RProtoBufLib')) * removing ‘/Library/Frameworks/R.framework/Versions/4.6-arm64/Resources/library/flowCore’