############################################################################## ############################################################################## ### ### Running command: ### ### /Library/Frameworks/R.framework/Resources/bin/R CMD build --keep-empty-dirs --no-resave-data flowCore ### ############################################################################## ############################################################################## * checking for file ‘flowCore/DESCRIPTION’ ... OK * preparing ‘flowCore’: * checking DESCRIPTION meta-information ... OK * cleaning src * installing the package (it is needed to build vignettes) ----------------------------------- ERROR: dependencies ‘cytolib’, ‘RProtoBufLib’ are not available for package ‘flowCore’ Perhaps try a variation of: install.packages(c('cytolib', 'RProtoBufLib')) * removing ‘/private/var/folders/r0/l4fjk6cj5xj0j3brt4bplpl40000gt/T/Rtmprn8jkO/Rinste5f22fe68d89/flowCore’ ----------------------------------- ERROR: package installation failed