Package: flowClust Version: 3.49.0 Command: /home/biocbuild/bbs-3.23-bioc/R/bin/R CMD INSTALL flowClust StartedAt: 2025-11-13 15:14:50 -0500 (Thu, 13 Nov 2025) EndedAt: 2025-11-13 15:16:28 -0500 (Thu, 13 Nov 2025) EllapsedTime: 98.5 seconds RetCode: 0 Status: OK