Package: flowClust Version: 3.49.0 Command: /Library/Frameworks/R.framework/Resources/bin/R CMD INSTALL flowClust StartedAt: 2025-11-13 15:10:21 -0500 (Thu, 13 Nov 2025) EndedAt: 2025-11-13 15:11:13 -0500 (Thu, 13 Nov 2025) EllapsedTime: 52.1 seconds RetCode: 0 Status: OK