############################################################################## ############################################################################## ### ### Running command: ### ### /Library/Frameworks/R.framework/Resources/bin/R CMD build --keep-empty-dirs --no-resave-data flowClust ### ############################################################################## ############################################################################## * checking for file ‘flowClust/DESCRIPTION’ ... OK * preparing ‘flowClust’: * checking DESCRIPTION meta-information ... OK * cleaning src * running ‘cleanup’ * installing the package (it is needed to build vignettes) ----------------------------------- ERROR: dependency ‘flowCore’ is not available for package ‘flowClust’ Perhaps try a variation of: install.packages('flowCore') * removing ‘/private/var/folders/r0/l4fjk6cj5xj0j3brt4bplpl40000gt/T/RtmpvlU4KZ/Rinste5576f718113/flowClust’ ----------------------------------- ERROR: package installation failed