Package: flowClust Version: 3.49.0 Maintainer: Greg Finak , Mike Jiang MaintainerEmail: mike at ozette.ai git_url: https://git.bioconductor.org/packages/flowClust git_branch: devel git_last_commit: 24bd31c git_last_commit_date: 2025-10-29 10:00:22 -0500 (Wed, 29 Oct 2025)