Package: flowClean Version: 1.49.0 Command: /Library/Frameworks/R.framework/Resources/bin/R CMD INSTALL flowClean StartedAt: 2025-11-12 15:22:20 -0500 (Wed, 12 Nov 2025) EndedAt: 2025-11-12 15:22:20 -0500 (Wed, 12 Nov 2025) EllapsedTime: 0.7 seconds RetCode: 1 Status: ERROR