Package: flowClean Version: 1.49.0 Command: /Library/Frameworks/R.framework/Resources/bin/R CMD build --keep-empty-dirs --no-resave-data flowClean StartedAt: 2025-11-14 16:21:57 -0500 (Fri, 14 Nov 2025) EndedAt: 2025-11-14 16:22:12 -0500 (Fri, 14 Nov 2025) EllapsedTime: 15.2 seconds RetCode: 0 Status: OK PackageFile: flowClean_1.49.0.tar.gz PackageFileSize: 4.924 MiB