Package: flowClean Version: 1.49.0 Maintainer: Kipper Fletez-Brant MaintainerEmail: cafletezbrant at gmail.com git_url: https://git.bioconductor.org/packages/flowClean git_branch: devel git_last_commit: a14fb52 git_last_commit_date: 2025-10-29 10:19:45 -0500 (Wed, 29 Oct 2025)