Package: flowCHIC Version: 1.45.0 Command: /Library/Frameworks/R.framework/Resources/bin/R CMD INSTALL flowCHIC StartedAt: 2025-11-14 15:07:57 -0500 (Fri, 14 Nov 2025) EndedAt: 2025-11-14 15:08:02 -0500 (Fri, 14 Nov 2025) EllapsedTime: 5.5 seconds RetCode: 0 Status: OK