Package: flowCHIC Version: 1.45.0 Command: /Library/Frameworks/R.framework/Resources/bin/R CMD build --keep-empty-dirs --no-resave-data flowCHIC StartedAt: 2025-11-13 16:25:03 -0500 (Thu, 13 Nov 2025) EndedAt: 2025-11-13 16:25:22 -0500 (Thu, 13 Nov 2025) EllapsedTime: 19.2 seconds RetCode: 0 Status: OK PackageFile: flowCHIC_1.45.0.tar.gz PackageFileSize: 3.241 MiB