Package: flowCHIC Version: 1.45.0 Maintainer: Author: Joachim Schumann MaintainerEmail: joachim.schumann at ufz.de git_url: https://git.bioconductor.org/packages/flowCHIC git_branch: devel git_last_commit: c56715d git_last_commit_date: 2025-10-29 10:22:16 -0500 (Wed, 29 Oct 2025)