Package: flowBin Version: 1.47.0 Command: /Library/Frameworks/R.framework/Resources/bin/R CMD INSTALL flowBin StartedAt: 2025-11-13 15:07:39 -0500 (Thu, 13 Nov 2025) EndedAt: 2025-11-13 15:07:43 -0500 (Thu, 13 Nov 2025) EllapsedTime: 4.0 seconds RetCode: 0 Status: OK