Package: flowBin Version: 1.47.0 Command: /Library/Frameworks/R.framework/Resources/bin/R CMD build --keep-empty-dirs --no-resave-data flowBin StartedAt: 2025-11-13 16:25:01 -0500 (Thu, 13 Nov 2025) EndedAt: 2025-11-13 16:25:11 -0500 (Thu, 13 Nov 2025) EllapsedTime: 10.1 seconds RetCode: 0 Status: OK PackageFile: flowBin_1.47.0.tar.gz PackageFileSize: 575.6 KiB