Package: flowBin Version: 1.47.0 Command: rm -rf flowBin.buildbin-libdir && mkdir flowBin.buildbin-libdir && /Users/biocbuild/BBS/utils/build-universal.sh flowBin_1.47.0.tar.gz /Library/Frameworks/R.framework/Resources/bin/R flowBin.buildbin-libdir StartedAt: 2025-11-13 23:37:49 -0500 (Thu, 13 Nov 2025) EndedAt: 2025-11-13 23:37:54 -0500 (Thu, 13 Nov 2025) EllapsedTime: 5.2 seconds RetCode: 0 Status: OK PackageFile: flowBin_1.47.0.tgz PackageFileSize: 841.8 KiB