Package: flowBeads Version: 1.49.0 Maintainer: Nikolas Pontikos MaintainerEmail: n.pontikos at gmail.com git_url: https://git.bioconductor.org/packages/flowBeads git_branch: devel git_last_commit: 01f6eb8 git_last_commit_date: 2025-10-29 10:15:03 -0500 (Wed, 29 Oct 2025)