Package: flowAI Version: 1.41.0 Command: /home/biocbuild/bbs-3.23-bioc/R/bin/R CMD build --keep-empty-dirs --no-resave-data flowAI StartedAt: 2025-11-14 17:37:25 -0500 (Fri, 14 Nov 2025) EndedAt: 2025-11-14 17:37:40 -0500 (Fri, 14 Nov 2025) EllapsedTime: 15.0 seconds RetCode: 0 Status: OK PackageFile: flowAI_1.41.0.tar.gz PackageFileSize: 3.748 MiB