Package: flowAI Version: 1.41.0 Command: /Library/Frameworks/R.framework/Resources/bin/R CMD INSTALL flowAI StartedAt: 2025-11-13 15:07:27 -0500 (Thu, 13 Nov 2025) EndedAt: 2025-11-13 15:07:31 -0500 (Thu, 13 Nov 2025) EllapsedTime: 4.6 seconds RetCode: 0 Status: OK