Package: flagme Version: 1.67.0 Command: /home/biocbuild/bbs-3.23-bioc/R/bin/R CMD INSTALL flagme StartedAt: 2025-11-13 15:45:05 -0500 (Thu, 13 Nov 2025) EndedAt: 2025-11-13 15:45:54 -0500 (Thu, 13 Nov 2025) EllapsedTime: 49.4 seconds RetCode: 0 Status: OK