Package: flagme Version: 1.67.0 Command: /Library/Frameworks/R.framework/Resources/bin/R CMD build --keep-empty-dirs --no-resave-data flagme StartedAt: 2025-11-14 16:21:41 -0500 (Fri, 14 Nov 2025) EndedAt: 2025-11-14 16:23:10 -0500 (Fri, 14 Nov 2025) EllapsedTime: 89.0 seconds RetCode: 0 Status: OK PackageFile: flagme_1.67.0.tar.gz PackageFileSize: 726.7 KiB