Package: flagme Version: 1.67.0 Maintainer: Mark Robinson , Riccardo Romoli MaintainerEmail: riccardo.romoli at unifi.it git_url: https://git.bioconductor.org/packages/flagme git_branch: devel git_last_commit: bfb88ad git_last_commit_date: 2025-10-29 10:02:02 -0500 (Wed, 29 Oct 2025)