Package: findIPs Version: 1.7.0 Command: /home/biocbuild/bbs-3.23-bioc/R/bin/R CMD INSTALL findIPs StartedAt: 2025-11-16 15:22:04 -0500 (Sun, 16 Nov 2025) EndedAt: 2025-11-16 15:22:24 -0500 (Sun, 16 Nov 2025) EllapsedTime: 19.8 seconds RetCode: 0 Status: OK