Package: findIPs Version: 1.7.0 Command: /home/biocbuild/bbs-3.23-bioc/R/bin/R CMD build --keep-empty-dirs --no-resave-data findIPs StartedAt: 2025-11-14 17:36:44 -0500 (Fri, 14 Nov 2025) EndedAt: 2025-11-14 17:41:15 -0500 (Fri, 14 Nov 2025) EllapsedTime: 271.3 seconds RetCode: 0 Status: OK PackageFile: findIPs_1.7.0.tar.gz PackageFileSize: 2.497 MiB