Package: findIPs Version: 1.7.0 Command: /Library/Frameworks/R.framework/Resources/bin/R CMD build --keep-empty-dirs --no-resave-data findIPs StartedAt: 2025-11-13 16:24:26 -0500 (Thu, 13 Nov 2025) EndedAt: 2025-11-13 16:25:56 -0500 (Thu, 13 Nov 2025) EllapsedTime: 90.0 seconds RetCode: 0 Status: OK PackageFile: findIPs_1.7.0.tar.gz PackageFileSize: 2.296 MiB