Package: findIPs Version: 1.7.0 Command: rm -rf findIPs.buildbin-libdir && mkdir findIPs.buildbin-libdir && /Users/biocbuild/BBS/utils/build-universal.sh findIPs_1.7.0.tar.gz /Library/Frameworks/R.framework/Resources/bin/R findIPs.buildbin-libdir StartedAt: 2025-11-13 23:37:39 -0500 (Thu, 13 Nov 2025) EndedAt: 2025-11-13 23:37:49 -0500 (Thu, 13 Nov 2025) EllapsedTime: 10.2 seconds RetCode: 0 Status: OK PackageFile: findIPs_1.7.0.tgz PackageFileSize: 2.143 MiB