Package: findIPs Version: 1.7.0 Maintainer: Shuo Wang MaintainerEmail: wangsures at foxmail.com git_url: https://git.bioconductor.org/packages/findIPs git_branch: devel git_last_commit: e70b87c git_last_commit_date: 2025-10-29 11:30:10 -0500 (Wed, 29 Oct 2025)