Package: fdrame Version: 1.83.0 Command: /home/biocbuild/bbs-3.23-bioc/R/bin/R CMD INSTALL fdrame StartedAt: 2025-11-14 15:05:28 -0500 (Fri, 14 Nov 2025) EndedAt: 2025-11-14 15:05:56 -0500 (Fri, 14 Nov 2025) EllapsedTime: 27.6 seconds RetCode: 0 Status: OK