Package: fdrame Version: 1.83.0 Command: /home/biocbuild/bbs-3.23-bioc/R/bin/R CMD build --keep-empty-dirs --no-resave-data fdrame StartedAt: 2025-11-13 17:35:34 -0500 (Thu, 13 Nov 2025) EndedAt: 2025-11-13 17:35:40 -0500 (Thu, 13 Nov 2025) EllapsedTime: 6.0 seconds RetCode: 0 Status: OK PackageFile: fdrame_1.83.0.tar.gz PackageFileSize: 972.5 KiB