Package: fdrame Version: 1.83.0 Maintainer: Effi Kenigsberg MaintainerEmail: effiken.fdrame at gmail.com git_url: https://git.bioconductor.org/packages/fdrame git_branch: devel git_last_commit: 6649122 git_last_commit_date: 2025-10-29 09:56:48 -0500 (Wed, 29 Oct 2025)