Package: fcScan Version: 1.25.0 Command: /home/biocbuild/bbs-3.23-bioc/R/bin/R CMD INSTALL fcScan StartedAt: 2025-11-13 15:40:52 -0500 (Thu, 13 Nov 2025) EndedAt: 2025-11-13 15:41:31 -0500 (Thu, 13 Nov 2025) EllapsedTime: 39.2 seconds RetCode: 0 Status: OK