Package: fcScan Version: 1.25.0 Command: /Library/Frameworks/R.framework/Resources/bin/R CMD INSTALL fcScan StartedAt: 2025-11-13 15:22:00 -0500 (Thu, 13 Nov 2025) EndedAt: 2025-11-13 15:22:16 -0500 (Thu, 13 Nov 2025) EllapsedTime: 15.8 seconds RetCode: 0 Status: OK