Package: fcScan Version: 1.25.0 Command: /Library/Frameworks/R.framework/Resources/bin/R CMD build --keep-empty-dirs --no-resave-data fcScan StartedAt: 2025-11-13 16:23:55 -0500 (Thu, 13 Nov 2025) EndedAt: 2025-11-13 16:24:17 -0500 (Thu, 13 Nov 2025) EllapsedTime: 22.3 seconds RetCode: 0 Status: OK PackageFile: fcScan_1.25.0.tar.gz PackageFileSize: 241.9 KiB