Package: fcScan Version: 1.25.0 Command: rm -rf fcScan.buildbin-libdir && mkdir fcScan.buildbin-libdir && /Users/biocbuild/BBS/utils/build-universal.sh fcScan_1.25.0.tar.gz /Library/Frameworks/R.framework/Resources/bin/R fcScan.buildbin-libdir StartedAt: 2025-11-13 23:37:31 -0500 (Thu, 13 Nov 2025) EndedAt: 2025-11-13 23:37:50 -0500 (Thu, 13 Nov 2025) EllapsedTime: 19.5 seconds RetCode: 0 Status: OK PackageFile: fcScan_1.25.0.tgz PackageFileSize: 272.3 KiB