Package: fastseg Version: 1.57.0 Command: /home/biocbuild/bbs-3.23-bioc/R/bin/R CMD INSTALL fastseg StartedAt: 2025-11-11 15:28:38 -0500 (Tue, 11 Nov 2025) EndedAt: 2025-11-11 15:28:49 -0500 (Tue, 11 Nov 2025) EllapsedTime: 10.6 seconds RetCode: 0 Status: OK