Package: fastseg Version: 1.57.0 Command: /home/biocbuild/bbs-3.23-bioc/R/bin/R CMD build --keep-empty-dirs --no-resave-data fastseg StartedAt: 2025-11-13 17:34:51 -0500 (Thu, 13 Nov 2025) EndedAt: 2025-11-13 17:35:37 -0500 (Thu, 13 Nov 2025) EllapsedTime: 46.1 seconds RetCode: 0 Status: OK PackageFile: fastseg_1.57.0.tar.gz PackageFileSize: 719 KiB