Package: fastseg Version: 1.57.0 Command: /Library/Frameworks/R.framework/Resources/bin/R CMD INSTALL fastseg StartedAt: 2025-11-13 15:11:05 -0500 (Thu, 13 Nov 2025) EndedAt: 2025-11-13 15:11:10 -0500 (Thu, 13 Nov 2025) EllapsedTime: 4.2 seconds RetCode: 0 Status: OK