Package: fastseg Version: 1.57.0 Command: /Library/Frameworks/R.framework/Resources/bin/R CMD build --keep-empty-dirs --no-resave-data fastseg StartedAt: 2025-11-13 16:23:45 -0500 (Thu, 13 Nov 2025) EndedAt: 2025-11-13 16:24:00 -0500 (Thu, 13 Nov 2025) EllapsedTime: 15.2 seconds RetCode: 0 Status: OK PackageFile: fastseg_1.57.0.tar.gz PackageFileSize: 728.8 KiB