Package: fastseg Version: 1.57.0 Command: rm -rf fastseg.buildbin-libdir && mkdir fastseg.buildbin-libdir && /Users/biocbuild/BBS/utils/build-universal.sh fastseg_1.57.0.tar.gz /Library/Frameworks/R.framework/Resources/bin/R fastseg.buildbin-libdir StartedAt: 2025-11-13 23:37:29 -0500 (Thu, 13 Nov 2025) EndedAt: 2025-11-13 23:37:37 -0500 (Thu, 13 Nov 2025) EllapsedTime: 7.2 seconds RetCode: 0 Status: OK PackageFile: fastseg_1.57.0.tgz PackageFileSize: 765.2 KiB