Package: fastseg Version: 1.57.0 Maintainer: Alexander Blume MaintainerEmail: alex.gos90 at gmail.com git_url: https://git.bioconductor.org/packages/fastseg git_branch: devel git_last_commit: 15a937a git_last_commit_date: 2025-10-29 10:09:44 -0500 (Wed, 29 Oct 2025)