Package: fastreeR Version: 2.1.0 Command: /home/biocbuild/bbs-3.23-bioc/R/bin/R CMD INSTALL fastreeR StartedAt: 2025-11-14 15:07:45 -0500 (Fri, 14 Nov 2025) EndedAt: 2025-11-14 15:08:24 -0500 (Fri, 14 Nov 2025) EllapsedTime: 38.3 seconds RetCode: 0 Status: OK