Package: fastreeR Version: 2.1.0 Command: /home/biocbuild/bbs-3.23-bioc/R/bin/R CMD build --keep-empty-dirs --no-resave-data fastreeR StartedAt: 2025-11-14 17:34:47 -0500 (Fri, 14 Nov 2025) EndedAt: 2025-11-14 17:36:44 -0500 (Fri, 14 Nov 2025) EllapsedTime: 117.1 seconds RetCode: 0 Status: OK PackageFile: fastreeR_2.1.0.tar.gz PackageFileSize: 3.686 MiB