Package: fastreeR Version: 2.1.0 Command: /Library/Frameworks/R.framework/Resources/bin/R CMD INSTALL fastreeR StartedAt: 2025-11-12 15:18:40 -0500 (Wed, 12 Nov 2025) EndedAt: 2025-11-12 15:18:58 -0500 (Wed, 12 Nov 2025) EllapsedTime: 18.4 seconds RetCode: 0 Status: OK