Package: fastreeR Version: 2.1.0 Command: /Library/Frameworks/R.framework/Resources/bin/R CMD build --keep-empty-dirs --no-resave-data fastreeR StartedAt: 2025-11-13 16:23:38 -0500 (Thu, 13 Nov 2025) EndedAt: 2025-11-13 16:24:40 -0500 (Thu, 13 Nov 2025) EllapsedTime: 61.7 seconds RetCode: 0 Status: OK PackageFile: fastreeR_2.1.0.tar.gz PackageFileSize: 3.394 MiB