Package: fastreeR Version: 2.1.0 Command: rm -rf fastreeR.buildbin-libdir && mkdir fastreeR.buildbin-libdir && /Users/biocbuild/BBS/utils/build-universal.sh fastreeR_2.1.0.tar.gz /Library/Frameworks/R.framework/Resources/bin/R fastreeR.buildbin-libdir StartedAt: 2025-11-12 20:57:31 -0500 (Wed, 12 Nov 2025) EndedAt: 2025-11-12 20:57:33 -0500 (Wed, 12 Nov 2025) EllapsedTime: 2.0 seconds RetCode: 0 Status: OK PackageFile: fastreeR_2.1.0.tgz PackageFileSize: 3.436 MiB