Package: fastreeR Version: 2.1.0 Maintainer: Anestis Gkanogiannis MaintainerEmail: anestis at gkanogiannis.com git_url: https://git.bioconductor.org/packages/fastreeR git_branch: devel git_last_commit: f9dc08c git_last_commit_date: 2025-10-29 11:15:37 -0500 (Wed, 29 Oct 2025)