Package: fastLiquidAssociation Version: 1.47.0 Command: /Library/Frameworks/R.framework/Resources/bin/R CMD INSTALL fastLiquidAssociation StartedAt: 2025-11-13 15:27:10 -0500 (Thu, 13 Nov 2025) EndedAt: 2025-11-13 15:27:19 -0500 (Thu, 13 Nov 2025) EllapsedTime: 8.7 seconds RetCode: 0 Status: OK