Package: fastLiquidAssociation Version: 1.47.0 Command: /Library/Frameworks/R.framework/Resources/bin/R CMD build --keep-empty-dirs --no-resave-data fastLiquidAssociation StartedAt: 2025-11-13 16:23:25 -0500 (Thu, 13 Nov 2025) EndedAt: 2025-11-13 16:23:57 -0500 (Thu, 13 Nov 2025) EllapsedTime: 32.4 seconds RetCode: 0 Status: OK PackageFile: fastLiquidAssociation_1.47.0.tar.gz PackageFileSize: 750.6 KiB