Package: fastLiquidAssociation Version: 1.47.0 Command: rm -rf fastLiquidAssociation.buildbin-libdir && mkdir fastLiquidAssociation.buildbin-libdir && /Users/biocbuild/BBS/utils/build-universal.sh fastLiquidAssociation_1.47.0.tar.gz /Library/Frameworks/R.framework/Resources/bin/R fastLiquidAssociation.buildbin-libdir StartedAt: 2025-11-13 23:37:27 -0500 (Thu, 13 Nov 2025) EndedAt: 2025-11-13 23:37:39 -0500 (Thu, 13 Nov 2025) EllapsedTime: 11.3 seconds RetCode: 0 Status: OK PackageFile: fastLiquidAssociation_1.47.0.tgz PackageFileSize: 661.6 KiB